
BEGIN:VCALENDAR
VERSION:2.0
PRODID:-//Osnovna šola Polhov Gradec - ECPv6.15.12.2//NONSGML v1.0//EN
CALSCALE:GREGORIAN
METHOD:PUBLISH
X-WR-CALNAME:Osnovna šola Polhov Gradec
X-ORIGINAL-URL:https://ospg.si
X-WR-CALDESC:Dogodki za Osnovna šola Polhov Gradec
REFRESH-INTERVAL;VALUE=DURATION:PT1H
X-Robots-Tag:noindex
X-PUBLISHED-TTL:PT1H
BEGIN:VTIMEZONE
TZID:Europe/Ljubljana
BEGIN:DAYLIGHT
TZOFFSETFROM:+0100
TZOFFSETTO:+0200
TZNAME:CEST
DTSTART:20250330T010000
END:DAYLIGHT
BEGIN:STANDARD
TZOFFSETFROM:+0200
TZOFFSETTO:+0100
TZNAME:CET
DTSTART:20251026T010000
END:STANDARD
BEGIN:DAYLIGHT
TZOFFSETFROM:+0100
TZOFFSETTO:+0200
TZNAME:CEST
DTSTART:20260329T010000
END:DAYLIGHT
BEGIN:STANDARD
TZOFFSETFROM:+0200
TZOFFSETTO:+0100
TZNAME:CET
DTSTART:20261025T010000
END:STANDARD
BEGIN:DAYLIGHT
TZOFFSETFROM:+0100
TZOFFSETTO:+0200
TZNAME:CEST
DTSTART:20270328T010000
END:DAYLIGHT
BEGIN:STANDARD
TZOFFSETFROM:+0200
TZOFFSETTO:+0100
TZNAME:CET
DTSTART:20271031T010000
END:STANDARD
END:VTIMEZONE
BEGIN:VEVENT
DTSTART;VALUE=DATE:20260428
DTEND;VALUE=DATE:20260501
DTSTAMP:20260421T105754
CREATED:20260403T080806Z
LAST-MODIFIED:20260403T080806Z
UID:14715-1777334400-1777593599@ospg.si
SUMMARY:Prvomajske počitnice
DESCRIPTION:
URL:https://ospg.si/dogodek/prvomajske-pocitnice/
CATEGORIES:Matična šola,POS Črni Vrh,POS Šentjošt,Šola
END:VEVENT
BEGIN:VEVENT
DTSTART;VALUE=DATE:20260501
DTEND;VALUE=DATE:20260503
DTSTAMP:20260421T105754
CREATED:20260403T080829Z
LAST-MODIFIED:20260403T080829Z
UID:14717-1777593600-1777766399@ospg.si
SUMMARY:Praznik dela
DESCRIPTION:
URL:https://ospg.si/dogodek/praznik-dela/
CATEGORIES:Matična šola,POS Črni Vrh,POS Šentjošt,Šola
END:VEVENT
BEGIN:VEVENT
DTSTART;TZID=Europe/Ljubljana:20260504T140000
DTEND;TZID=Europe/Ljubljana:20260507T190000
DTSTAMP:20260421T105754
CREATED:20260417T084329Z
LAST-MODIFIED:20260417T084329Z
UID:14743-1777903200-1778180400@ospg.si
SUMMARY:ZBIRALNA AKCIJA PAPIRJA IN ZAMAŠKOV
DESCRIPTION:
URL:https://ospg.si/dogodek/zbiralna-akcija-papirja-in-zamaskov/
CATEGORIES:Matična šola,POS Črni Vrh,POS Šentjošt,Šola
END:VEVENT
BEGIN:VEVENT
DTSTART;TZID=Europe/Ljubljana:20260506T080000
DTEND;TZID=Europe/Ljubljana:20260506T120000
DTSTAMP:20260421T105754
CREATED:20260417T084406Z
LAST-MODIFIED:20260417T084406Z
UID:14745-1778054400-1778068800@ospg.si
SUMMARY:Rastem s knjigo - 7.b
DESCRIPTION:
URL:https://ospg.si/dogodek/rastem-s-knjigo-7-b/
CATEGORIES:Matična šola,Šola
END:VEVENT
BEGIN:VEVENT
DTSTART;TZID=Europe/Ljubljana:20260508T080000
DTEND;TZID=Europe/Ljubljana:20260508T120000
DTSTAMP:20260421T105754
CREATED:20260417T084438Z
LAST-MODIFIED:20260417T084438Z
UID:14747-1778227200-1778241600@ospg.si
SUMMARY:Rastem s knjigo - 7.a
DESCRIPTION:
URL:https://ospg.si/dogodek/rastem-s-knjigo-7-a/
CATEGORIES:Matična šola,Šola
END:VEVENT
BEGIN:VEVENT
DTSTART;TZID=Europe/Ljubljana:20260511T080000
DTEND;TZID=Europe/Ljubljana:20260511T130000
DTSTAMP:20260421T105754
CREATED:20260417T084545Z
LAST-MODIFIED:20260417T084545Z
UID:14749-1778486400-1778504400@ospg.si
SUMMARY:FiT4KiD dan
DESCRIPTION:
URL:https://ospg.si/dogodek/fit4kid-dan/
CATEGORIES:Matična šola,POS Črni Vrh,POS Šentjošt,Šola
END:VEVENT
END:VCALENDAR