
BEGIN:VCALENDAR
VERSION:2.0
PRODID:-//Osnovna šola Polhov Gradec - ECPv6.15.12.2//NONSGML v1.0//EN
CALSCALE:GREGORIAN
METHOD:PUBLISH
X-ORIGINAL-URL:https://ospg.si
X-WR-CALDESC:Dogodki za Osnovna šola Polhov Gradec
REFRESH-INTERVAL;VALUE=DURATION:PT1H
X-Robots-Tag:noindex
X-PUBLISHED-TTL:PT1H
BEGIN:VTIMEZONE
TZID:Europe/Ljubljana
BEGIN:DAYLIGHT
TZOFFSETFROM:+0100
TZOFFSETTO:+0200
TZNAME:CEST
DTSTART:20250330T010000
END:DAYLIGHT
BEGIN:STANDARD
TZOFFSETFROM:+0200
TZOFFSETTO:+0100
TZNAME:CET
DTSTART:20251026T010000
END:STANDARD
BEGIN:DAYLIGHT
TZOFFSETFROM:+0100
TZOFFSETTO:+0200
TZNAME:CEST
DTSTART:20260329T010000
END:DAYLIGHT
BEGIN:STANDARD
TZOFFSETFROM:+0200
TZOFFSETTO:+0100
TZNAME:CET
DTSTART:20261025T010000
END:STANDARD
BEGIN:DAYLIGHT
TZOFFSETFROM:+0100
TZOFFSETTO:+0200
TZNAME:CEST
DTSTART:20270328T010000
END:DAYLIGHT
BEGIN:STANDARD
TZOFFSETFROM:+0200
TZOFFSETTO:+0100
TZNAME:CET
DTSTART:20271031T010000
END:STANDARD
END:VTIMEZONE
BEGIN:VEVENT
DTSTART;TZID=Europe/Ljubljana:20260508T080000
DTEND;TZID=Europe/Ljubljana:20260508T120000
DTSTAMP:20260422T123821
CREATED:20260417T084438Z
LAST-MODIFIED:20260417T084438Z
UID:14747-1778227200-1778241600@ospg.si
SUMMARY:Rastem s knjigo - 7.a
DESCRIPTION:
URL:https://ospg.si/dogodek/rastem-s-knjigo-7-a/
CATEGORIES:Matična šola,Šola
END:VEVENT
BEGIN:VEVENT
DTSTART;TZID=Europe/Ljubljana:20260511T080000
DTEND;TZID=Europe/Ljubljana:20260511T130000
DTSTAMP:20260422T123821
CREATED:20260417T084545Z
LAST-MODIFIED:20260417T084545Z
UID:14749-1778486400-1778504400@ospg.si
SUMMARY:FiT4KiD dan
DESCRIPTION:
URL:https://ospg.si/dogodek/fit4kid-dan/
CATEGORIES:Matična šola,POS Črni Vrh,POS Šentjošt,Šola
END:VEVENT
END:VCALENDAR